BEGIN:VCALENDAR
VERSION:2.0
PRODID:spatie/icalendar-generator
DESCRIPTION:Events from Warrior Martial Arts
X-WR-CALDESC:Events from Warrior Martial Arts
REFRESH-INTERVAL;VALUE=DURATION:PT1440M
X-PUBLISHED-TTL:PT1440M
BEGIN:VTIMEZONE
TZID:Etc/GMT+0
BEGIN:STANDARD
DTSTART:20250727T190000Z
TZOFFSETFROM:+0000
TZOFFSETTO:+0000
END:STANDARD
END:VTIMEZONE
BEGIN:VTIMEZONE
TZID:UTC
BEGIN:STANDARD
DTSTART:20250727T160246Z
TZOFFSETFROM:+0000
TZOFFSETTO:+0000
END:STANDARD
END:VTIMEZONE
BEGIN:VEVENT
UID:532-15
DTSTAMP:20260423T160246Z
SUMMARY:Adult Karate Class
LOCATION:Hasbrouck Heights 460 Boulevard  Hasbrouck Heights New Jersey 0760
 4
ORGANIZER;CN=warrior:MAILTO:warriormartialartskarate@gmail.com
RRULE:FREQ=WEEKLY;UNTIL=20270204T000000Z
DTSTART;TZID=Etc/GMT+0:20260423T190000
DTEND;TZID=Etc/GMT+0:20260423T203000
X-ALT-DESC;FMTTYPE=TEXT/HTML:The adult classes on Tuesday and Thursday nigh
 ts we train with Kata’s\, Drills and self-defense techniques and student
 s work on their belt requirements
CATEGORIES:Classes
URL;VALUE=URI:https://warrior-martialarts.com/mc-events/adult-karate-class-
 2/?mc_id=532
METHOD:PUBLISH
END:VEVENT
END:VCALENDAR