BEGIN:VCALENDAR
VERSION:2.0
PRODID:spatie/icalendar-generator
DESCRIPTION:Events from Warrior Martial Arts
X-WR-CALDESC:Events from Warrior Martial Arts
REFRESH-INTERVAL;VALUE=DURATION:PT1440M
X-PUBLISHED-TTL:PT1440M
BEGIN:VTIMEZONE
TZID:Etc/GMT+0
BEGIN:STANDARD
DTSTART:20250715T100000Z
TZOFFSETFROM:+0000
TZOFFSETTO:+0000
END:STANDARD
END:VTIMEZONE
BEGIN:VTIMEZONE
TZID:UTC
BEGIN:STANDARD
DTSTART:20250727T142442Z
TZOFFSETFROM:+0000
TZOFFSETTO:+0000
END:STANDARD
END:VTIMEZONE
BEGIN:VEVENT
UID:578-16
DTSTAMP:20260423T142442Z
SUMMARY:Kids class and open Adult training
LOCATION:Hasbrouck Heights 460 Boulevard  Hasbrouck Heights New Jersey 0760
 4
ORGANIZER;CN=warrior:MAILTO:warriormartialartskarate@gmail.com
RRULE:FREQ=WEEKLY;UNTIL=20270206T000000Z
DTSTART;TZID=Etc/GMT+0:20260411T100000
DTEND;TZID=Etc/GMT+0:20260411T110000
X-ALT-DESC;FMTTYPE=TEXT/HTML:The open class is for students who want to com
 e in and work on their belt requirements\, practice kata’s and drills Le
 arn More about the kids classes
CATEGORIES:Classes
URL;VALUE=URI:https://warrior-martialarts.com/mc-events/kids-class-and-open
 -adult-training/?mc_id=578
METHOD:PUBLISH
END:VEVENT
END:VCALENDAR