BEGIN:VCALENDAR
VERSION:2.0
PRODID:spatie/icalendar-generator
DESCRIPTION:Events from Warrior Martial Arts
X-WR-CALDESC:Events from Warrior Martial Arts
REFRESH-INTERVAL;VALUE=DURATION:PT1440M
X-PUBLISHED-TTL:PT1440M
BEGIN:VTIMEZONE
TZID:Etc/GMT+0
BEGIN:STANDARD
DTSTART:20250712T130000Z
TZOFFSETFROM:+0000
TZOFFSETTO:+0000
END:STANDARD
END:VTIMEZONE
BEGIN:VTIMEZONE
TZID:UTC
BEGIN:STANDARD
DTSTART:20250727T143451Z
TZOFFSETFROM:+0000
TZOFFSETTO:+0000
END:STANDARD
END:VTIMEZONE
BEGIN:VEVENT
UID:386-12
DTSTAMP:20260423T143451Z
SUMMARY:Senior classes
LOCATION:Hasbrouck Heights 460 Boulevard  Hasbrouck Heights New Jersey 0760
 4
ORGANIZER;CN=warrior:MAILTO:warriormartialartskarate@gmail.com
RRULE:FREQ=WEEKLY;UNTIL=20270203T000000Z
DTSTART;TZID=Etc/GMT+0:20260408T130000
DTEND;TZID=Etc/GMT+0:20260408T140000
X-ALT-DESC;FMTTYPE=TEXT/HTML:
CATEGORIES:Classes
URL;VALUE=URI:https://warrior-martialarts.com/mc-events/senior-classes-3/?m
 c_id=386
METHOD:PUBLISH
END:VEVENT
END:VCALENDAR