BEGIN:VCALENDAR
VERSION:2.0
PRODID:spatie/icalendar-generator
DESCRIPTION:Events from Warrior Martial Arts
X-WR-CALDESC:Events from Warrior Martial Arts
REFRESH-INTERVAL;VALUE=DURATION:PT1440M
X-PUBLISHED-TTL:PT1440M
BEGIN:VTIMEZONE
TZID:Etc/GMT+0
BEGIN:STANDARD
DTSTART:20250724T130000Z
TZOFFSETFROM:+0000
TZOFFSETTO:+0000
END:STANDARD
END:VTIMEZONE
BEGIN:VTIMEZONE
TZID:UTC
BEGIN:STANDARD
DTSTART:20250727T141556Z
TZOFFSETFROM:+0000
TZOFFSETTO:+0000
END:STANDARD
END:VTIMEZONE
BEGIN:VEVENT
UID:340-11
DTSTAMP:20260423T141556Z
SUMMARY:Senior classes (Tai Chi Body Healing\, Movement and Breathing)
LOCATION:Hasbrouck Heights 460 Boulevard  Hasbrouck Heights New Jersey 0760
 4
ORGANIZER;CN=warrior:MAILTO:warriormartialartskarate@gmail.com
RRULE:FREQ=WEEKLY;UNTIL=20270201T000000Z
DTSTART;TZID=Etc/GMT+0:20260420T130000
DTEND;TZID=Etc/GMT+0:20260420T140000
X-ALT-DESC;FMTTYPE=TEXT/HTML:Tai Chi Body Healing\, Movement and Breathing 
 Tai Chi classes that focus on internal health (Qi-GONG) and external healt
 h (Tai Chi) through practicing balance\, coordination and breathing. Warri
 or Martial Arts helps our seniors grow stronger physically\, mentally\, an
 d emotionally through structured exercise and training in a positive envir
 onment. Ages: 50–and Up Class Length: 60 minutes
CATEGORIES:Classes
URL;VALUE=URI:https://warrior-martialarts.com/mc-events/senior-classes-tai-
 chi-body-healing-movement-and-breathing-2/?mc_id=340
METHOD:PUBLISH
END:VEVENT
END:VCALENDAR